BEGIN:VCALENDAR
VERSION:2.0
PRODID:-//Downtown JCMO - ECPv6.15.18//NONSGML v1.0//EN
CALSCALE:GREGORIAN
METHOD:PUBLISH
X-WR-CALNAME:Downtown JCMO
X-ORIGINAL-URL:https://downtownjeffersoncity.com
X-WR-CALDESC:Events for Downtown JCMO
REFRESH-INTERVAL;VALUE=DURATION:PT1H
X-Robots-Tag:noindex
X-PUBLISHED-TTL:PT1H
BEGIN:VTIMEZONE
TZID:America/Chicago
BEGIN:DAYLIGHT
TZOFFSETFROM:-0600
TZOFFSETTO:-0500
TZNAME:CDT
DTSTART:20220313T080000
END:DAYLIGHT
BEGIN:STANDARD
TZOFFSETFROM:-0500
TZOFFSETTO:-0600
TZNAME:CST
DTSTART:20221106T070000
END:STANDARD
BEGIN:DAYLIGHT
TZOFFSETFROM:-0600
TZOFFSETTO:-0500
TZNAME:CDT
DTSTART:20230312T080000
END:DAYLIGHT
BEGIN:STANDARD
TZOFFSETFROM:-0500
TZOFFSETTO:-0600
TZNAME:CST
DTSTART:20231105T070000
END:STANDARD
BEGIN:DAYLIGHT
TZOFFSETFROM:-0600
TZOFFSETTO:-0500
TZNAME:CDT
DTSTART:20240310T080000
END:DAYLIGHT
BEGIN:STANDARD
TZOFFSETFROM:-0500
TZOFFSETTO:-0600
TZNAME:CST
DTSTART:20241103T070000
END:STANDARD
END:VTIMEZONE
BEGIN:VEVENT
DTSTART;TZID=America/Chicago:20230207T080000
DTEND;TZID=America/Chicago:20230207T170000
DTSTAMP:20260422T054408
CREATED:20230201T195410Z
LAST-MODIFIED:20230201T195410Z
UID:4627-1675756800-1675789200@downtownjeffersoncity.com
SUMMARY:Preschool Storytime @ MRRL
DESCRIPTION:Ages 3-5. No reservations needed. Stories and music for preschoolers.
URL:https://downtownjeffersoncity.com/event/preschool-storytime-mrrl-10/2023-02-07/
LOCATION:Missouri River Regional Library\, 214 Adams Street\, Jefferson City\, MO\, 65101
ATTACH;FMTTYPE=image/jpeg:https://downtownjeffersoncity.com/wp-content/uploads/2023/02/Preschool-Family-Storytime-web-Calendar-Image.jpg
ORGANIZER;CN="Missouri River Regional Library":MAILTO:mehmertm@mrrl.org
END:VEVENT
BEGIN:VEVENT
DTSTART;TZID=America/Chicago:20230207T180000
DTEND;TZID=America/Chicago:20230207T193000
DTSTAMP:20260422T054408
CREATED:20230201T204958Z
LAST-MODIFIED:20230201T204958Z
UID:4632-1675792800-1675798200@downtownjeffersoncity.com
SUMMARY:Google Drive @ MRRL
DESCRIPTION:Google Drive has a lot of components. Luckily\, the library can help you navigate it! In this class\, we will teach you on how to use Drive\, with step-by-step instructions on how to upload\, send\, and organize files\, and other tips and tricks to streamline your experience. Attend in person or virtually. Registration required: https://www.mrrl.org/event/google-drive-2
URL:https://downtownjeffersoncity.com/event/google-drive-mrrl-2/
LOCATION:Missouri River Regional Library\, 214 Adams Street\, Jefferson City\, MO\, 65101
ATTACH;FMTTYPE=image/png:https://downtownjeffersoncity.com/wp-content/uploads/2023/02/Google-Srive.png
ORGANIZER;CN="Missouri River Regional Library":MAILTO:mehmertm@mrrl.org
END:VEVENT
BEGIN:VEVENT
DTSTART;TZID=America/Chicago:20230207T180000
DTEND;TZID=America/Chicago:20230207T194500
DTSTAMP:20260422T054408
CREATED:20230201T214259Z
LAST-MODIFIED:20230201T214259Z
UID:4636-1675792800-1675799100@downtownjeffersoncity.com
SUMMARY:Knitting & Crocheting @ MRRL
DESCRIPTION:Come knit or crochet! We provide basic lessons and yarn\, but you need to bring your own knitting needles or crochet hook. Ages: 12 and up (teens & adults).
URL:https://downtownjeffersoncity.com/event/knitting-crocheting-mrrl-7/
LOCATION:Missouri River Regional Library\, 214 Adams Street\, Jefferson City\, MO\, 65101
ATTACH;FMTTYPE=image/jpeg:https://downtownjeffersoncity.com/wp-content/uploads/2023/02/knitting-for-calendar.jpg
ORGANIZER;CN="Missouri River Regional Library":MAILTO:mehmertm@mrrl.org
END:VEVENT
BEGIN:VEVENT
DTSTART;TZID=America/Chicago:20230207T183000
DTEND;TZID=America/Chicago:20230207T200000
DTSTAMP:20260422T054408
CREATED:20230130T185239Z
LAST-MODIFIED:20230130T185239Z
UID:4616-1675794600-1675800000@downtownjeffersoncity.com
SUMMARY:Author Talk: Stephen Deborah Reinhardt @ MRRL
DESCRIPTION:The Gateway City was a popular stop for miners\, trappers and settlers heading west. Offices and warehouses lined lined the riverfront; railroads and steamboats brought an abundance of goods\, including green coffee. By the early 20th century\, St. Louis–with more than 70 roasting companies–was the coffee capital of the United States. In her new book\, Reinhardt traces an industry that helped shape St. Louis history and shows how today’s creative coffee professionals continue to influence a culinary culture.  \nA St. Louis native\, Reinhardt is an award-winning travel and food writer. Her book will be available for sale and signing after the program.
URL:https://downtownjeffersoncity.com/event/author-talk-stephen-deborah-reinhardt-mrrl/
LOCATION:Missouri River Regional Library\, 214 Adams Street\, Jefferson City\, MO\, 65101
ATTACH;FMTTYPE=image/jpeg:https://downtownjeffersoncity.com/wp-content/uploads/2023/01/st-louis-coffee.jpg
ORGANIZER;CN="Missouri River Regional Library":MAILTO:mehmertm@mrrl.org
END:VEVENT
END:VCALENDAR