BEGIN:VCALENDAR
VERSION:2.0
PRODID:-//Downtown JCMO - ECPv6.15.18//NONSGML v1.0//EN
CALSCALE:GREGORIAN
METHOD:PUBLISH
X-ORIGINAL-URL:https://downtownjeffersoncity.com
X-WR-CALDESC:Events for Downtown JCMO
REFRESH-INTERVAL;VALUE=DURATION:PT1H
X-Robots-Tag:noindex
X-PUBLISHED-TTL:PT1H
BEGIN:VTIMEZONE
TZID:America/Chicago
BEGIN:DAYLIGHT
TZOFFSETFROM:-0600
TZOFFSETTO:-0500
TZNAME:CDT
DTSTART:20220313T080000
END:DAYLIGHT
BEGIN:STANDARD
TZOFFSETFROM:-0500
TZOFFSETTO:-0600
TZNAME:CST
DTSTART:20221106T070000
END:STANDARD
BEGIN:DAYLIGHT
TZOFFSETFROM:-0600
TZOFFSETTO:-0500
TZNAME:CDT
DTSTART:20230312T080000
END:DAYLIGHT
BEGIN:STANDARD
TZOFFSETFROM:-0500
TZOFFSETTO:-0600
TZNAME:CST
DTSTART:20231105T070000
END:STANDARD
BEGIN:DAYLIGHT
TZOFFSETFROM:-0600
TZOFFSETTO:-0500
TZNAME:CDT
DTSTART:20240310T080000
END:DAYLIGHT
BEGIN:STANDARD
TZOFFSETFROM:-0500
TZOFFSETTO:-0600
TZNAME:CST
DTSTART:20241103T070000
END:STANDARD
END:VTIMEZONE
BEGIN:VEVENT
DTSTART;TZID=America/Chicago:20230610T153000
DTEND;TZID=America/Chicago:20230610T173000
DTSTAMP:20260421T054224
CREATED:20230516T024727Z
LAST-MODIFIED:20230516T024727Z
UID:5023-1686411000-1686418200@downtownjeffersoncity.com
SUMMARY:Paws & Poses
DESCRIPTION:We’ve joined up with Premium Pets and are inviting you and your pup to head downtown for a fun photo session. \nBring your own camera or smartphone to snap as many photos with our 15 backdrops and your furry friend as you’d like. Treats will be provided for both humans and pets. \nTo ensure a safe and enjoyable experience for everyone\, we kindly request that each participant brings only one pet per human. This will help maintain a comfortable environment and allow everyone to interact freely with their furry companions. \nBook your 30-minute selfie session online. $15 for human + pet. Additional humans are $5 per person. \nA portion of the proceeds from this event will benefit the Jefferson City Animal Shelter. Spots are limited\, so purchase your time slot now!
URL:https://downtownjeffersoncity.com/event/paws-poses/
LOCATION:The Backdrop\, 207 E. High St.\, Jefferson City\, MO\, 65101\, United States
CATEGORIES:Current Events
ATTACH;FMTTYPE=image/png:https://downtownjeffersoncity.com/wp-content/uploads/2023/05/PAWS-POSES-2.png
END:VEVENT
END:VCALENDAR